BEGIN:VCALENDAR
VERSION:2.0
PRODID:-//Peacox Helping Hands - ECPv6.15.13//NONSGML v1.0//EN
CALSCALE:GREGORIAN
METHOD:PUBLISH
X-ORIGINAL-URL:https://peacoxhelpinghands.org
X-WR-CALDESC:Events for Peacox Helping Hands
REFRESH-INTERVAL;VALUE=DURATION:PT1H
X-Robots-Tag:noindex
X-PUBLISHED-TTL:PT1H
BEGIN:VTIMEZONE
TZID:America/New_York
BEGIN:DAYLIGHT
TZOFFSETFROM:-0500
TZOFFSETTO:-0400
TZNAME:EDT
DTSTART:20240310T070000
END:DAYLIGHT
BEGIN:STANDARD
TZOFFSETFROM:-0400
TZOFFSETTO:-0500
TZNAME:EST
DTSTART:20241103T060000
END:STANDARD
BEGIN:DAYLIGHT
TZOFFSETFROM:-0500
TZOFFSETTO:-0400
TZNAME:EDT
DTSTART:20250309T070000
END:DAYLIGHT
BEGIN:STANDARD
TZOFFSETFROM:-0400
TZOFFSETTO:-0500
TZNAME:EST
DTSTART:20251102T060000
END:STANDARD
BEGIN:DAYLIGHT
TZOFFSETFROM:-0500
TZOFFSETTO:-0400
TZNAME:EDT
DTSTART:20260308T070000
END:DAYLIGHT
BEGIN:STANDARD
TZOFFSETFROM:-0400
TZOFFSETTO:-0500
TZNAME:EST
DTSTART:20261101T060000
END:STANDARD
END:VTIMEZONE
BEGIN:VEVENT
DTSTART;TZID=America/New_York:20251011T100000
DTEND;TZID=America/New_York:20251011T123000
DTSTAMP:20260414T093731
CREATED:20251003T135315Z
LAST-MODIFIED:20251003T140322Z
UID:1444-1760176800-1760185800@peacoxhelpinghands.org
SUMMARY:STEM Academy
DESCRIPTION:How to Start Coding
URL:https://peacoxhelpinghands.org/event/stem-aadamy/
ATTACH;FMTTYPE=image/png:https://peacoxhelpinghands.org/wp-content/uploads/2025/10/STEM-Acadamy.png
END:VEVENT
BEGIN:VEVENT
DTSTART;TZID=America/New_York:20251011T110000
DTEND;TZID=America/New_York:20251011T123000
DTSTAMP:20260414T093731
CREATED:20251003T152823Z
LAST-MODIFIED:20251003T152823Z
UID:1486-1760180400-1760185800@peacoxhelpinghands.org
SUMMARY:Food\, Clothing & Hygiene Distribution
DESCRIPTION:Let’s Help Those in Need.
URL:https://peacoxhelpinghands.org/event/food-clothing-hygiene-distribution-2/
ATTACH;FMTTYPE=image/png:https://peacoxhelpinghands.org/wp-content/uploads/2025/10/Food-Distribution-oct-month-.png
END:VEVENT
END:VCALENDAR