BEGIN:VCALENDAR
VERSION:2.0
PRODID:-//Peacox Helping Hands - ECPv6.15.13//NONSGML v1.0//EN
CALSCALE:GREGORIAN
METHOD:PUBLISH
X-ORIGINAL-URL:https://peacoxhelpinghands.org
X-WR-CALDESC:Events for Peacox Helping Hands
REFRESH-INTERVAL;VALUE=DURATION:PT1H
X-Robots-Tag:noindex
X-PUBLISHED-TTL:PT1H
BEGIN:VTIMEZONE
TZID:America/New_York
BEGIN:DAYLIGHT
TZOFFSETFROM:-0500
TZOFFSETTO:-0400
TZNAME:EDT
DTSTART:20240310T070000
END:DAYLIGHT
BEGIN:STANDARD
TZOFFSETFROM:-0400
TZOFFSETTO:-0500
TZNAME:EST
DTSTART:20241103T060000
END:STANDARD
BEGIN:DAYLIGHT
TZOFFSETFROM:-0500
TZOFFSETTO:-0400
TZNAME:EDT
DTSTART:20250309T070000
END:DAYLIGHT
BEGIN:STANDARD
TZOFFSETFROM:-0400
TZOFFSETTO:-0500
TZNAME:EST
DTSTART:20251102T060000
END:STANDARD
BEGIN:DAYLIGHT
TZOFFSETFROM:-0500
TZOFFSETTO:-0400
TZNAME:EDT
DTSTART:20260308T070000
END:DAYLIGHT
BEGIN:STANDARD
TZOFFSETFROM:-0400
TZOFFSETTO:-0500
TZNAME:EST
DTSTART:20261101T060000
END:STANDARD
END:VTIMEZONE
BEGIN:VEVENT
DTSTART;TZID=America/New_York:20251021T080000
DTEND;TZID=America/New_York:20251021T170000
DTSTAMP:20260418T223345
CREATED:20251003T173756Z
LAST-MODIFIED:20251003T173756Z
UID:1511-1761033600-1761066000@peacoxhelpinghands.org
SUMMARY:Student Mentoring
DESCRIPTION:
URL:https://peacoxhelpinghands.org/event/student-mentoring-81/
LOCATION:Peacox Community Partners Building\, 678 S. Yearling Rd.\, Columbus\, OH\, 43213\, United States
END:VEVENT
BEGIN:VEVENT
DTSTART;TZID=America/New_York:20251021T144500
DTEND;TZID=America/New_York:20251021T154500
DTSTAMP:20260418T223345
CREATED:20251003T191632Z
LAST-MODIFIED:20251003T191632Z
UID:1574-1761057900-1761061500@peacoxhelpinghands.org
SUMMARY:Positive Action
DESCRIPTION:Positive Action is a path leaning into how to Think\, Feel\, and do Good.
URL:https://peacoxhelpinghands.org/event/positive-action/
ATTACH;FMTTYPE=image/png:https://peacoxhelpinghands.org/wp-content/uploads/2025/10/positive.png
END:VEVENT
END:VCALENDAR