BEGIN:VCALENDAR
VERSION:2.0
PRODID:-//Peacox Helping Hands - ECPv6.15.13//NONSGML v1.0//EN
CALSCALE:GREGORIAN
METHOD:PUBLISH
X-ORIGINAL-URL:https://peacoxhelpinghands.org
X-WR-CALDESC:Events for Peacox Helping Hands
REFRESH-INTERVAL;VALUE=DURATION:PT1H
X-Robots-Tag:noindex
X-PUBLISHED-TTL:PT1H
BEGIN:VTIMEZONE
TZID:America/New_York
BEGIN:DAYLIGHT
TZOFFSETFROM:-0500
TZOFFSETTO:-0400
TZNAME:EDT
DTSTART:20240310T070000
END:DAYLIGHT
BEGIN:STANDARD
TZOFFSETFROM:-0400
TZOFFSETTO:-0500
TZNAME:EST
DTSTART:20241103T060000
END:STANDARD
BEGIN:DAYLIGHT
TZOFFSETFROM:-0500
TZOFFSETTO:-0400
TZNAME:EDT
DTSTART:20250309T070000
END:DAYLIGHT
BEGIN:STANDARD
TZOFFSETFROM:-0400
TZOFFSETTO:-0500
TZNAME:EST
DTSTART:20251102T060000
END:STANDARD
BEGIN:DAYLIGHT
TZOFFSETFROM:-0500
TZOFFSETTO:-0400
TZNAME:EDT
DTSTART:20260308T070000
END:DAYLIGHT
BEGIN:STANDARD
TZOFFSETFROM:-0400
TZOFFSETTO:-0500
TZNAME:EST
DTSTART:20261101T060000
END:STANDARD
END:VTIMEZONE
BEGIN:VEVENT
DTSTART;TZID=America/New_York:20251025T100000
DTEND;TZID=America/New_York:20251025T123000
DTSTAMP:20260415T193116
CREATED:20251003T140531Z
LAST-MODIFIED:20251007T184327Z
UID:1454-1761386400-1761395400@peacoxhelpinghands.org
SUMMARY:STEM Academy
DESCRIPTION:How to Start Coding.
URL:https://peacoxhelpinghands.org/event/stem-academy-8/
LOCATION:Peacox Community Partners Building\, 678 S. Yearling Rd.\, Columbus\, OH\, 43213\, United States
ATTACH;FMTTYPE=image/png:https://peacoxhelpinghands.org/wp-content/uploads/2025/10/STEM-Acadamy.png
END:VEVENT
BEGIN:VEVENT
DTSTART;TZID=America/New_York:20251025T110000
DTEND;TZID=America/New_York:20251025T120000
DTSTAMP:20260415T193116
CREATED:20251003T183926Z
LAST-MODIFIED:20251003T183926Z
UID:1542-1761390000-1761393600@peacoxhelpinghands.org
SUMMARY:Youth Advisory Committee
DESCRIPTION:
URL:https://peacoxhelpinghands.org/event/youth-advisory-committee/
ATTACH;FMTTYPE=image/png:https://peacoxhelpinghands.org/wp-content/uploads/2025/10/YAC.png
END:VEVENT
BEGIN:VEVENT
DTSTART;TZID=America/New_York:20251025T120000
DTEND;TZID=America/New_York:20251025T133000
DTSTAMP:20260415T193116
CREATED:20251003T150746Z
LAST-MODIFIED:20251003T151653Z
UID:1483-1761393600-1761399000@peacoxhelpinghands.org
SUMMARY:Neighborhood Watch
DESCRIPTION:Fun & Fitness\nPromote Safety\nHelp keep Whitehall Clean!\nDistribute Community Resource Materials
URL:https://peacoxhelpinghands.org/event/neighborhood-watch-8/
LOCATION:Peacox Community Partners Building\, 678 S. Yearling Rd.\, Columbus\, OH\, 43213\, United States
ATTACH;FMTTYPE=image/png:https://peacoxhelpinghands.org/wp-content/uploads/2025/10/Neighborhood-watch-for-oct-25.png
END:VEVENT
END:VCALENDAR