BEGIN:VCALENDAR
VERSION:2.0
PRODID:-//Peacox Helping Hands - ECPv6.15.13//NONSGML v1.0//EN
CALSCALE:GREGORIAN
METHOD:PUBLISH
X-ORIGINAL-URL:https://peacoxhelpinghands.org
X-WR-CALDESC:Events for Peacox Helping Hands
REFRESH-INTERVAL;VALUE=DURATION:PT1H
X-Robots-Tag:noindex
X-PUBLISHED-TTL:PT1H
BEGIN:VTIMEZONE
TZID:America/New_York
BEGIN:DAYLIGHT
TZOFFSETFROM:-0500
TZOFFSETTO:-0400
TZNAME:EDT
DTSTART:20240310T070000
END:DAYLIGHT
BEGIN:STANDARD
TZOFFSETFROM:-0400
TZOFFSETTO:-0500
TZNAME:EST
DTSTART:20241103T060000
END:STANDARD
BEGIN:DAYLIGHT
TZOFFSETFROM:-0500
TZOFFSETTO:-0400
TZNAME:EDT
DTSTART:20250309T070000
END:DAYLIGHT
BEGIN:STANDARD
TZOFFSETFROM:-0400
TZOFFSETTO:-0500
TZNAME:EST
DTSTART:20251102T060000
END:STANDARD
BEGIN:DAYLIGHT
TZOFFSETFROM:-0500
TZOFFSETTO:-0400
TZNAME:EDT
DTSTART:20260308T070000
END:DAYLIGHT
BEGIN:STANDARD
TZOFFSETFROM:-0400
TZOFFSETTO:-0500
TZNAME:EST
DTSTART:20261101T060000
END:STANDARD
END:VTIMEZONE
BEGIN:VEVENT
DTSTART;TZID=America/New_York:20251220T090000
DTEND;TZID=America/New_York:20251220T100000
DTSTAMP:20260421T051736
CREATED:20251003T204343Z
LAST-MODIFIED:20251003T204343Z
UID:1647-1766221200-1766224800@peacoxhelpinghands.org
SUMMARY:Youth Media Team
DESCRIPTION:
URL:https://peacoxhelpinghands.org/event/youth-media-team-2/
LOCATION:Peacox Community Partners Building\, 678 S. Yearling Rd.\, Columbus\, OH\, 43213\, United States
END:VEVENT
BEGIN:VEVENT
DTSTART;TZID=America/New_York:20251220T090000
DTEND;TZID=America/New_York:20251220T140000
DTSTAMP:20260421T051736
CREATED:20251003T204238Z
LAST-MODIFIED:20251003T204238Z
UID:1644-1766221200-1766239200@peacoxhelpinghands.org
SUMMARY:Peacox Community Showcase
DESCRIPTION:Resiliency and Recovery
URL:https://peacoxhelpinghands.org/event/peacox-community-showcase/
ATTACH;FMTTYPE=image/png:https://peacoxhelpinghands.org/wp-content/uploads/2025/10/Showcase.png
END:VEVENT
BEGIN:VEVENT
DTSTART;TZID=America/New_York:20251220T110000
DTEND;TZID=America/New_York:20251220T120000
DTSTAMP:20260421T051736
CREATED:20251003T210612Z
LAST-MODIFIED:20251003T210946Z
UID:1679-1766228400-1766232000@peacoxhelpinghands.org
SUMMARY:Recovery Advisory Committee
DESCRIPTION:
URL:https://peacoxhelpinghands.org/event/recovery-advisory-committee/
LOCATION:Peacox Community Partners Building\, 678 S. Yearling Rd.\, Columbus\, OH\, 43213\, United States
ATTACH;FMTTYPE=image/png:https://peacoxhelpinghands.org/wp-content/uploads/2025/10/RAC.png
END:VEVENT
END:VCALENDAR