BEGIN:VCALENDAR
VERSION:2.0
PRODID:-//Peacox Helping Hands - ECPv6.15.13//NONSGML v1.0//EN
CALSCALE:GREGORIAN
METHOD:PUBLISH
X-WR-CALNAME:Peacox Helping Hands
X-ORIGINAL-URL:https://peacoxhelpinghands.org
X-WR-CALDESC:Events for Peacox Helping Hands
REFRESH-INTERVAL;VALUE=DURATION:PT1H
X-Robots-Tag:noindex
X-PUBLISHED-TTL:PT1H
BEGIN:VTIMEZONE
TZID:America/New_York
BEGIN:DAYLIGHT
TZOFFSETFROM:-0500
TZOFFSETTO:-0400
TZNAME:EDT
DTSTART:20250309T070000
END:DAYLIGHT
BEGIN:STANDARD
TZOFFSETFROM:-0400
TZOFFSETTO:-0500
TZNAME:EST
DTSTART:20251102T060000
END:STANDARD
BEGIN:DAYLIGHT
TZOFFSETFROM:-0500
TZOFFSETTO:-0400
TZNAME:EDT
DTSTART:20260308T070000
END:DAYLIGHT
BEGIN:STANDARD
TZOFFSETFROM:-0400
TZOFFSETTO:-0500
TZNAME:EST
DTSTART:20261101T060000
END:STANDARD
BEGIN:DAYLIGHT
TZOFFSETFROM:-0500
TZOFFSETTO:-0400
TZNAME:EDT
DTSTART:20270314T070000
END:DAYLIGHT
BEGIN:STANDARD
TZOFFSETFROM:-0400
TZOFFSETTO:-0500
TZNAME:EST
DTSTART:20271107T060000
END:STANDARD
END:VTIMEZONE
BEGIN:VEVENT
DTSTART;TZID=America/New_York:20260423T150000
DTEND;TZID=America/New_York:20260423T163000
DTSTAMP:20260423T061948
CREATED:20260330T181357Z
LAST-MODIFIED:20260330T181357Z
UID:2104-1776956400-1776961800@peacoxhelpinghands.org
SUMMARY:Financial Literacy
DESCRIPTION:Join Fifth Third & Peacox Helping Hands in our 4-part Financial Literacy series. You will gain the essential knowledge and tools to take charge of your money and plan a secure future.
URL:https://peacoxhelpinghands.org/event/financial-literacy-2/
ATTACH;FMTTYPE=application/pdf:https://peacoxhelpinghands.org/wp-content/uploads/2026/03/Financial-Literacy-Workshop-flyer-2.pdf
END:VEVENT
BEGIN:VEVENT
DTSTART;TZID=America/New_York:20260423T160000
DTEND;TZID=America/New_York:20260423T173000
DTSTAMP:20260423T061948
CREATED:20260326T131931Z
LAST-MODIFIED:20260326T131931Z
UID:2027-1776960000-1776965400@peacoxhelpinghands.org
SUMMARY:Gracehaven
DESCRIPTION:Positive Action: Youth Dialogue Expressions
URL:https://peacoxhelpinghands.org/event/gracehaven-6/
ATTACH;FMTTYPE=application/pdf:https://peacoxhelpinghands.org/wp-content/uploads/2026/03/GRACEHAVEN-HTRISK-Flyer-7-1.pdf
END:VEVENT
BEGIN:VEVENT
DTSTART;TZID=America/New_York:20260423T180000
DTEND;TZID=America/New_York:20260423T190000
DTSTAMP:20260423T061948
CREATED:20260326T141441Z
LAST-MODIFIED:20260326T141441Z
UID:2036-1776967200-1776970800@peacoxhelpinghands.org
SUMMARY:AA Big Book Study Meeting
DESCRIPTION:Alcoholics Anonymous Big Book Study Meeting
URL:https://peacoxhelpinghands.org/event/aa-big-book-study-meeting-28/
ATTACH;FMTTYPE=image/jpeg:https://peacoxhelpinghands.org/wp-content/uploads/2025/07/AA-Big-Book-Study-072825.jpg
END:VEVENT
END:VCALENDAR