BEGIN:VCALENDAR
VERSION:2.0
PRODID:-//Peacox Helping Hands - ECPv6.15.13//NONSGML v1.0//EN
CALSCALE:GREGORIAN
METHOD:PUBLISH
X-WR-CALNAME:Peacox Helping Hands
X-ORIGINAL-URL:https://peacoxhelpinghands.org
X-WR-CALDESC:Events for Peacox Helping Hands
REFRESH-INTERVAL;VALUE=DURATION:PT1H
X-Robots-Tag:noindex
X-PUBLISHED-TTL:PT1H
BEGIN:VTIMEZONE
TZID:America/New_York
BEGIN:DAYLIGHT
TZOFFSETFROM:-0500
TZOFFSETTO:-0400
TZNAME:EDT
DTSTART:20250309T070000
END:DAYLIGHT
BEGIN:STANDARD
TZOFFSETFROM:-0400
TZOFFSETTO:-0500
TZNAME:EST
DTSTART:20251102T060000
END:STANDARD
BEGIN:DAYLIGHT
TZOFFSETFROM:-0500
TZOFFSETTO:-0400
TZNAME:EDT
DTSTART:20260308T070000
END:DAYLIGHT
BEGIN:STANDARD
TZOFFSETFROM:-0400
TZOFFSETTO:-0500
TZNAME:EST
DTSTART:20261101T060000
END:STANDARD
BEGIN:DAYLIGHT
TZOFFSETFROM:-0500
TZOFFSETTO:-0400
TZNAME:EDT
DTSTART:20270314T070000
END:DAYLIGHT
BEGIN:STANDARD
TZOFFSETFROM:-0400
TZOFFSETTO:-0500
TZNAME:EST
DTSTART:20271107T060000
END:STANDARD
END:VTIMEZONE
BEGIN:VEVENT
DTSTART;TZID=America/New_York:20260424T130000
DTEND;TZID=America/New_York:20260424T143000
DTSTAMP:20260424T013513
CREATED:20260326T142608Z
LAST-MODIFIED:20260326T142608Z
UID:2050-1777035600-1777041000@peacoxhelpinghands.org
SUMMARY:Art Expressions Class
DESCRIPTION:
URL:https://peacoxhelpinghands.org/event/art-expressions-class-57/
ATTACH;FMTTYPE=application/pdf:https://peacoxhelpinghands.org/wp-content/uploads/2026/03/Art-EXPRESSIONs-2-1-3.pdf
END:VEVENT
BEGIN:VEVENT
DTSTART;TZID=America/New_York:20260424T164500
DTEND;TZID=America/New_York:20260424T174500
DTSTAMP:20260424T013513
CREATED:20260326T144416Z
LAST-MODIFIED:20260326T144416Z
UID:2062-1777049100-1777052700@peacoxhelpinghands.org
SUMMARY:Coffee & Convo | Women's Support Group
DESCRIPTION:A Safe space to share\, reflect\, and grow together
URL:https://peacoxhelpinghands.org/event/coffee-convo-womens-support-group-4/
ATTACH;FMTTYPE=application/pdf:https://peacoxhelpinghands.org/wp-content/uploads/2026/03/Coping-Convo-2-3.pdf
END:VEVENT
BEGIN:VEVENT
DTSTART;TZID=America/New_York:20260424T180000
DTEND;TZID=America/New_York:20260424T190000
DTSTAMP:20260424T013513
CREATED:20260326T151344Z
LAST-MODIFIED:20260326T151439Z
UID:2071-1777053600-1777057200@peacoxhelpinghands.org
SUMMARY:NA Silver Lining Meeting
DESCRIPTION:Narcotics Anonymous Silver Lining Meeting
URL:https://peacoxhelpinghands.org/event/na-silver-lining-meeting-29/
ATTACH;FMTTYPE=image/png:https://peacoxhelpinghands.org/wp-content/uploads/2025/10/NA.png
END:VEVENT
END:VCALENDAR